BEGIN:VCALENDAR
VERSION:2.0
PRODID:-//hacksw/handcal//NONSGML v1.0//EN
BEGIN:VEVENT
SUMMARY:Regate de l'Estran : aller-retour a Port-en-Bessin - L'ESTRAN
UID:6253c82c-79c3-4f66-bb3f-980f61400289
DTSTART:20260502T070000Z
DTEND:20260503T124500Z
LOCATION:Localisation   
CATEGORIES:Sportif
STATUS:
DESCRIPTION:<p>Allons passer le week-end a Port-en-Bessin et faisons
 la course pour y aller et revenir. Deux regates sont programmes les 2
 et 3 mai dans cet aller-retour depuis Grandcamp. Les pontons
 visiteurs sont reserves, pensez a vous inscrire aupres d'Hubert pour
 ces deux jours.</p>
 
 <p><u>Samedi 2 mai</u><br>
 <strong>1er signal
 d'avertissement : 9h30</strong><br>
 Rendez-vous 8h30. Ouverture des
 portes a Grandcamp 9h01. Fermeture a Port-en-Bessin
 13h26.</p>
 
 <p><u>Dimanche 3 mai</u><br>
 <strong>1er signal
 d'avertissement : 10h30</strong><br>
 Ouverture des portes a
 Port-en-Bessin 10h. Fermeture a Grandcamp 14h59.</p>
 
 <p>La regate
 est parrainee par notre <a
 href="https://www.facebook.com/p/L-Estran-100066731596429/?locale=fr_FR"
 target="_blank" rel="noreferrer noopener">pizzeria preferee :
 l'Estran</a>.</p>
 
 <p> </p>
URL;VALUE=URI:https://www.voile-grandcamp.fr/evenements/2026/05/02/regate-de-lestran-aller-retour-a-port-en-bessin-lestran-2403794
END:VEVENT
END:VCALENDAR
